BEGIN:VCALENDAR
VERSION:2.0
PRODID:-//Kinderboerderij de Leijhoeve - ECPv6.15.20//NONSGML v1.0//EN
CALSCALE:GREGORIAN
METHOD:PUBLISH
X-ORIGINAL-URL:https://leijhoeve.nl
X-WR-CALDESC:Evenementen voor Kinderboerderij de Leijhoeve
REFRESH-INTERVAL;VALUE=DURATION:PT1H
X-Robots-Tag:noindex
X-PUBLISHED-TTL:PT1H
BEGIN:VTIMEZONE
TZID:Europe/Amsterdam
BEGIN:DAYLIGHT
TZOFFSETFROM:+0100
TZOFFSETTO:+0200
TZNAME:CEST
DTSTART:20210328T010000
END:DAYLIGHT
BEGIN:STANDARD
TZOFFSETFROM:+0200
TZOFFSETTO:+0100
TZNAME:CET
DTSTART:20211031T010000
END:STANDARD
BEGIN:DAYLIGHT
TZOFFSETFROM:+0100
TZOFFSETTO:+0200
TZNAME:CEST
DTSTART:20220327T010000
END:DAYLIGHT
BEGIN:STANDARD
TZOFFSETFROM:+0200
TZOFFSETTO:+0100
TZNAME:CET
DTSTART:20221030T010000
END:STANDARD
BEGIN:DAYLIGHT
TZOFFSETFROM:+0100
TZOFFSETTO:+0200
TZNAME:CEST
DTSTART:20230326T010000
END:DAYLIGHT
BEGIN:STANDARD
TZOFFSETFROM:+0200
TZOFFSETTO:+0100
TZNAME:CET
DTSTART:20231029T010000
END:STANDARD
END:VTIMEZONE
BEGIN:VEVENT
DTSTART;TZID=Europe/Amsterdam:20221005T110000
DTEND;TZID=Europe/Amsterdam:20221005T143000
DTSTAMP:20260422T185638
CREATED:20221017T102941Z
LAST-MODIFIED:20221017T114431Z
UID:3013-1664967600-1664980200@leijhoeve.nl
SUMMARY:Pony’s verzorgen
DESCRIPTION:Het is weer de eerste woensdag van de maand\,\nde pony’s mogen weer geknuffeld en geborsteld worden! \nAls jij dit leuk vind\, ben je van harte welkom op de Kinderboerderij!\nPony knuffelen is van 11:00 – 12:00\nPony borstelen is van 13:30 – 14:30 \nHopelijk tot dan!
URL:https://leijhoeve.nl/event/ponys-verzorgen-2/
LOCATION:Kinderboerderij de Leijhoeve\, Burg. N. de Jaegerplein 1\, Rijsbergen\, NB\, 4891NL\, Nederland
END:VEVENT
END:VCALENDAR