BEGIN:VCALENDAR
VERSION:2.0
PRODID:-//Kinderboerderij de Leijhoeve - ECPv6.15.20//NONSGML v1.0//EN
CALSCALE:GREGORIAN
METHOD:PUBLISH
X-ORIGINAL-URL:https://leijhoeve.nl
X-WR-CALDESC:Evenementen voor Kinderboerderij de Leijhoeve
REFRESH-INTERVAL;VALUE=DURATION:PT1H
X-Robots-Tag:noindex
X-PUBLISHED-TTL:PT1H
BEGIN:VTIMEZONE
TZID:UTC
BEGIN:STANDARD
TZOFFSETFROM:+0000
TZOFFSETTO:+0000
TZNAME:UTC
DTSTART:20220101T000000
END:STANDARD
END:VTIMEZONE
BEGIN:VEVENT
DTSTART;VALUE=DATE:20230218
DTEND;VALUE=DATE:20230220
DTSTAMP:20260422T131322
CREATED:20230209T112122Z
LAST-MODIFIED:20230209T112224Z
UID:3286-1676678400-1676851199@leijhoeve.nl
SUMMARY:Brasserie gesloten
DESCRIPTION:In verband met carnaval is de brasserie op zaterdag 18 februari en zondag 19 februari gesloten.
URL:https://leijhoeve.nl/event/brasserie-gesloten/
LOCATION:NB
END:VEVENT
BEGIN:VEVENT
DTSTART;TZID=UTC:20230223T150000
DTEND;TZID=UTC:20230223T160000
DTSTAMP:20260422T131322
CREATED:20230209T112342Z
LAST-MODIFIED:20230209T112342Z
UID:3289-1677164400-1677168000@leijhoeve.nl
SUMMARY:Brasserie eerder dicht
DESCRIPTION:Op donderdag 23 februari is de brasserie vanaf 15:00 gesloten\, in verband met de certificaat uitreiking van onze medewerkers.
URL:https://leijhoeve.nl/event/brasserie-eerder-dicht/
LOCATION:NB
END:VEVENT
BEGIN:VEVENT
DTSTART;VALUE=DATE:20230227
DTEND;VALUE=DATE:20230228
DTSTAMP:20260422T131322
CREATED:20230209T112439Z
LAST-MODIFIED:20230209T112439Z
UID:3293-1677456000-1677542399@leijhoeve.nl
SUMMARY:Brasserie gesloten
DESCRIPTION:In verband met een studiedag van begeleiding van de brasserie\, is de brasserie vandaag een dagje gesloten.
URL:https://leijhoeve.nl/event/brasserie-gesloten-2/
LOCATION:NB
END:VEVENT
END:VCALENDAR