BEGIN:VCALENDAR
VERSION:2.0
PRODID:-//Kinderboerderij de Leijhoeve - ECPv6.15.20//NONSGML v1.0//EN
CALSCALE:GREGORIAN
METHOD:PUBLISH
X-ORIGINAL-URL:https://leijhoeve.nl
X-WR-CALDESC:Evenementen voor Kinderboerderij de Leijhoeve
REFRESH-INTERVAL;VALUE=DURATION:PT1H
X-Robots-Tag:noindex
X-PUBLISHED-TTL:PT1H
BEGIN:VTIMEZONE
TZID:UTC
BEGIN:STANDARD
TZOFFSETFROM:+0000
TZOFFSETTO:+0000
TZNAME:UTC
DTSTART:20220101T000000
END:STANDARD
END:VTIMEZONE
BEGIN:VEVENT
DTSTART;TZID=UTC:20230502T110000
DTEND;TZID=UTC:20230502T120000
DTSTAMP:20260422T091235
CREATED:20230412T074941Z
LAST-MODIFIED:20230412T110525Z
UID:3308-1683025200-1683028800@leijhoeve.nl
SUMMARY:Pony poetsen
DESCRIPTION:Kom jij de pony’s poetsen?\nDit kan van 11:00 tot 12:00 bij de pony’s in de wei.
URL:https://leijhoeve.nl/event/pony-poetsen-5/
LOCATION:Kinderboerderij de Leijhoeve\, Burg. N. de Jaegerplein 1\, Rijsbergen\, NB\, 4891NL\, Nederland
END:VEVENT
BEGIN:VEVENT
DTSTART;TZID=UTC:20230503T110000
DTEND;TZID=UTC:20230503T143000
DTSTAMP:20260422T091235
CREATED:20230209T092328Z
LAST-MODIFIED:20230412T102635Z
UID:3253-1683111600-1683124200@leijhoeve.nl
SUMMARY:Konijn knuffelen
DESCRIPTION:Kom jij de konijnen knuffelen in de stal?\nVandaag mogelijk tussen de volgende tijdsblokken:\n– 11:00 tot 12:00\n– 13:30 tot 14:30\nDit is een gratis activiteit
URL:https://leijhoeve.nl/event/konijn-knuffelen-5/
LOCATION:Kinderboerderij de Leijhoeve\, Burg. N. de Jaegerplein 1\, Rijsbergen\, NB\, 4891NL\, Nederland
END:VEVENT
BEGIN:VEVENT
DTSTART;TZID=UTC:20230505T110000
DTEND;TZID=UTC:20230505T170000
DTSTAMP:20260422T091235
CREATED:20230412T112947Z
LAST-MODIFIED:20230412T112947Z
UID:3407-1683284400-1683306000@leijhoeve.nl
SUMMARY:Bevrijdingsdag
DESCRIPTION:Aangepaste openingstijden i.v.m. Bevrijdingsdag\nBrasserie geopend van 11.00 – 17.00
URL:https://leijhoeve.nl/event/bevrijdingsdag/
LOCATION:Kinderboerderij de Leijhoeve\, Burg. N. de Jaegerplein 1\, Rijsbergen\, NB\, 4891NL\, Nederland
END:VEVENT
BEGIN:VEVENT
DTSTART;TZID=UTC:20230509T110000
DTEND;TZID=UTC:20230509T120000
DTSTAMP:20260422T091235
CREATED:20230412T110944Z
LAST-MODIFIED:20230412T110944Z
UID:3363-1683630000-1683633600@leijhoeve.nl
SUMMARY:Pony poetsen
DESCRIPTION:Kom jij de pony’s poetsen?\nDit kan van 11:00 tot 12:00 bij de pony’s in de wei.
URL:https://leijhoeve.nl/event/pony-poetsen-6/
LOCATION:Kinderboerderij de Leijhoeve\, Burg. N. de Jaegerplein 1\, Rijsbergen\, NB\, 4891NL\, Nederland
END:VEVENT
BEGIN:VEVENT
DTSTART;TZID=UTC:20230510T100000
DTEND;TZID=UTC:20230510T153000
DTSTAMP:20260422T091235
CREATED:20230412T081440Z
LAST-MODIFIED:20230412T081843Z
UID:3328-1683712800-1683732600@leijhoeve.nl
SUMMARY:Moederdag
DESCRIPTION:Kom een tasje versieren om cadeau te geven\nKosten €5\,- per kind incl. ranja \nGraag van te voren opgeven bij de brasserie via telefoonnummer : 0886117544 of stuur een mailtje naar  info@leijhoeve.nl
URL:https://leijhoeve.nl/event/moederdag/
LOCATION:Kinderboerderij de Leijhoeve\, Burg. N. de Jaegerplein 1\, Rijsbergen\, NB\, 4891NL\, Nederland
END:VEVENT
BEGIN:VEVENT
DTSTART;TZID=UTC:20230510T133000
DTEND;TZID=UTC:20230510T140000
DTSTAMP:20260422T091235
CREATED:20230412T105540Z
LAST-MODIFIED:20230412T105540Z
UID:3352-1683725400-1683727200@leijhoeve.nl
SUMMARY:Alpaca meet and feed
DESCRIPTION:Meet and feed met de alpaca’s ;\nVan 13.30 tot 14.00 \, maximaal 5 personen\nKaartjes zijn te koop bij de brasserie voor €5\,- p.p.\nDit is inclusief voer\, ranja en een aandenken. \nGraag 2 werkdagen vooraf reserveren via telefoonnummer: 088 6117544 of via info@leijhoeve.nl\nLET OP: Bij een temperatuur boven de 26 graden gaat de activiteit NIET door.
URL:https://leijhoeve.nl/event/alpaca-meet-and-feed-10/
LOCATION:Kinderboerderij de Leijhoeve\, Burg. N. de Jaegerplein 1\, Rijsbergen\, NB\, 4891NL\, Nederland
END:VEVENT
BEGIN:VEVENT
DTSTART;TZID=UTC:20230516T110000
DTEND;TZID=UTC:20230516T120000
DTSTAMP:20260422T091235
CREATED:20230412T111027Z
LAST-MODIFIED:20230412T111027Z
UID:3365-1684234800-1684238400@leijhoeve.nl
SUMMARY:Pony poetsen
DESCRIPTION:Kom jij de pony’s poetsen?\nDit kan van 11:00 tot 12:00 bij de pony’s in de wei.
URL:https://leijhoeve.nl/event/pony-poetsen-7/
LOCATION:Kinderboerderij de Leijhoeve\, Burg. N. de Jaegerplein 1\, Rijsbergen\, NB\, 4891NL\, Nederland
END:VEVENT
BEGIN:VEVENT
DTSTART;TZID=UTC:20230517T110000
DTEND;TZID=UTC:20230517T143000
DTSTAMP:20260422T091235
CREATED:20230209T093609Z
LAST-MODIFIED:20230412T103255Z
UID:3276-1684321200-1684333800@leijhoeve.nl
SUMMARY:Konijn knuffelen
DESCRIPTION:Kom jij de konijnen knuffelen in de stal?\nVandaag mogelijk tussen de volgende tijdsblokken:\n– 11:00 tot 12:00\n– 13:30 tot 14:30\nDit is een gratis activiteit
URL:https://leijhoeve.nl/event/konijn-knuffelen-16/
LOCATION:Kinderboerderij de Leijhoeve\, Burg. N. de Jaegerplein 1\, Rijsbergen\, NB\, 4891NL\, Nederland
END:VEVENT
BEGIN:VEVENT
DTSTART;TZID=UTC:20230518T110000
DTEND;TZID=UTC:20230518T170000
DTSTAMP:20260422T091235
CREATED:20230412T113050Z
LAST-MODIFIED:20230412T113050Z
UID:3409-1684407600-1684429200@leijhoeve.nl
SUMMARY:Hemelvaartsdag
DESCRIPTION:Aangepaste openingstijden i.v.m. Hemelvaartsdag\nBrasserie is geopend van 11.00 – 17.00
URL:https://leijhoeve.nl/event/hemelvaartsdag/
LOCATION:Kinderboerderij de Leijhoeve\, Burg. N. de Jaegerplein 1\, Rijsbergen\, NB\, 4891NL\, Nederland
END:VEVENT
BEGIN:VEVENT
DTSTART;TZID=UTC:20230523T110000
DTEND;TZID=UTC:20230523T120000
DTSTAMP:20260422T091235
CREATED:20230412T111118Z
LAST-MODIFIED:20230412T111118Z
UID:3367-1684839600-1684843200@leijhoeve.nl
SUMMARY:Pony poetsen
DESCRIPTION:Kom jij de pony’s poetsen?\nDit kan van 11:00 tot 12:00 bij de pony’s in de wei.
URL:https://leijhoeve.nl/event/pony-poetsen-8/
LOCATION:Kinderboerderij de Leijhoeve\, Burg. N. de Jaegerplein 1\, Rijsbergen\, NB\, 4891NL\, Nederland
END:VEVENT
BEGIN:VEVENT
DTSTART;TZID=UTC:20230524T133000
DTEND;TZID=UTC:20230524T140000
DTSTAMP:20260422T091235
CREATED:20230412T105502Z
LAST-MODIFIED:20230412T105502Z
UID:3350-1684935000-1684936800@leijhoeve.nl
SUMMARY:Alpaca meet and feed
DESCRIPTION:Meet and feed met de alpaca’s ;\nVan 13.30 tot 14.00 \, maximaal 5 personen\nKaartjes zijn te koop bij de brasserie voor €5\,- p.p.\nDit is inclusief voer\, ranja en een aandenken. \nGraag 2 werkdagen vooraf reserveren via telefoonnummer: 088 6117544 of via info@leijhoeve.nl\nLET OP: Bij een temperatuur boven de 26 graden gaat de activiteit NIET door.
URL:https://leijhoeve.nl/event/alpaca-meet-and-feed-9/
LOCATION:Kinderboerderij de Leijhoeve\, Burg. N. de Jaegerplein 1\, Rijsbergen\, NB\, 4891NL\, Nederland
END:VEVENT
BEGIN:VEVENT
DTSTART;TZID=UTC:20230528T110000
DTEND;TZID=UTC:20230528T170000
DTSTAMP:20260422T091235
CREATED:20230412T113136Z
LAST-MODIFIED:20230412T113136Z
UID:3411-1685271600-1685293200@leijhoeve.nl
SUMMARY:Pinksteren
DESCRIPTION:Brasserie geopend van 11.00 – 17.00
URL:https://leijhoeve.nl/event/pinksteren/
LOCATION:Kinderboerderij de Leijhoeve\, Burg. N. de Jaegerplein 1\, Rijsbergen\, NB\, 4891NL\, Nederland
END:VEVENT
BEGIN:VEVENT
DTSTART;TZID=UTC:20230529T110000
DTEND;TZID=UTC:20230529T170000
DTSTAMP:20260422T091235
CREATED:20230412T113226Z
LAST-MODIFIED:20230412T113226Z
UID:3413-1685358000-1685379600@leijhoeve.nl
SUMMARY:Pinksteren
DESCRIPTION:Aangepaste openingstijden i.v.m. Pinksteren\nBrasserie geopend van 11.00 – 17.00
URL:https://leijhoeve.nl/event/pinksteren-2/
LOCATION:Kinderboerderij de Leijhoeve\, Burg. N. de Jaegerplein 1\, Rijsbergen\, NB\, 4891NL\, Nederland
END:VEVENT
BEGIN:VEVENT
DTSTART;TZID=UTC:20230530T110000
DTEND;TZID=UTC:20230530T120000
DTSTAMP:20260422T091235
CREATED:20230412T111157Z
LAST-MODIFIED:20230412T111157Z
UID:3369-1685444400-1685448000@leijhoeve.nl
SUMMARY:Pony poetsen
DESCRIPTION:Kom jij de pony’s poetsen?\nDit kan van 11:00 tot 12:00 bij de pony’s in de wei.
URL:https://leijhoeve.nl/event/pony-poetsen-9/
LOCATION:Kinderboerderij de Leijhoeve\, Burg. N. de Jaegerplein 1\, Rijsbergen\, NB\, 4891NL\, Nederland
END:VEVENT
END:VCALENDAR