BEGIN:VCALENDAR
VERSION:2.0
PRODID:-//Kinderboerderij de Leijhoeve - ECPv6.15.20//NONSGML v1.0//EN
CALSCALE:GREGORIAN
METHOD:PUBLISH
X-WR-CALNAME:Kinderboerderij de Leijhoeve
X-ORIGINAL-URL:https://leijhoeve.nl
X-WR-CALDESC:Evenementen voor Kinderboerderij de Leijhoeve
REFRESH-INTERVAL;VALUE=DURATION:PT1H
X-Robots-Tag:noindex
X-PUBLISHED-TTL:PT1H
BEGIN:VTIMEZONE
TZID:UTC
BEGIN:STANDARD
TZOFFSETFROM:+0000
TZOFFSETTO:+0000
TZNAME:UTC
DTSTART:20220101T000000
END:STANDARD
END:VTIMEZONE
BEGIN:VEVENT
DTSTART;TZID=UTC:20230801T110000
DTEND;TZID=UTC:20230801T120000
DTSTAMP:20260422T045223
CREATED:20230412T111937Z
LAST-MODIFIED:20230412T111937Z
UID:3387-1690887600-1690891200@leijhoeve.nl
SUMMARY:Pony poetsen
DESCRIPTION:Kom jij de pony’s poetsen?\nDit kan van 11:00 tot 12:00 bij de pony’s in de wei. \nLET OP: Bij een temperatuur boven de 26 graden gaat de activiteit NIET door.
URL:https://leijhoeve.nl/event/pony-poetsen-18/
LOCATION:Kinderboerderij de Leijhoeve\, Burg. N. de Jaegerplein 1\, Rijsbergen\, NB\, 4891NL\, Nederland
END:VEVENT
BEGIN:VEVENT
DTSTART;TZID=UTC:20230802T110000
DTEND;TZID=UTC:20230802T143000
DTSTAMP:20260422T045223
CREATED:20230209T092635Z
LAST-MODIFIED:20230728T064948Z
UID:3261-1690974000-1690986600@leijhoeve.nl
SUMMARY:Ezels knuffelen
DESCRIPTION:Kom gezellig langst in de wei!\nVandaag mogelijk tussen de volgende tijdsblokken:\n– 11:00 tot 12:00\n– 13:30 tot 14:30\nDit is een gratis activiteit
URL:https://leijhoeve.nl/event/ezels-knuffelen-9/
LOCATION:Kinderboerderij de Leijhoeve\, Burg. N. de Jaegerplein 1\, Rijsbergen\, NB\, 4891NL\, Nederland
END:VEVENT
BEGIN:VEVENT
DTSTART;TZID=UTC:20230808T110000
DTEND;TZID=UTC:20230808T120000
DTSTAMP:20260422T045223
CREATED:20230412T112018Z
LAST-MODIFIED:20230412T112018Z
UID:3389-1691492400-1691496000@leijhoeve.nl
SUMMARY:Pony poetsen
DESCRIPTION:Kom jij de pony’s poetsen?\nDit kan van 11:00 tot 12:00 bij de pony’s in de wei. \nLET OP: Bij een temperatuur boven de 26 graden gaat de activiteit NIET door.
URL:https://leijhoeve.nl/event/pony-poetsen-19/
LOCATION:Kinderboerderij de Leijhoeve\, Burg. N. de Jaegerplein 1\, Rijsbergen\, NB\, 4891NL\, Nederland
END:VEVENT
BEGIN:VEVENT
DTSTART;TZID=UTC:20230809T133000
DTEND;TZID=UTC:20230809T140000
DTSTAMP:20260422T045223
CREATED:20230412T080423Z
LAST-MODIFIED:20230728T065936Z
UID:3316-1691587800-1691589600@leijhoeve.nl
SUMMARY:Alpaca meet and feed
DESCRIPTION:Meet and feed met de alpaca’s ;\nVan 13.30 tot 14.00 \, maximaal 5 personen\nVan 14.00 tot 14.00 \, maximaal 5 personen\nKaartjes zijn te koop bij de brasserie voor €5\,- p.p.\nDit is inclusief voer\, ranja en een aandenken. \nGraag 2 werkdagen vooraf reserveren via telefoonnummer: 088 6117544 of via info@leijhoeve.nl\nLET OP: Bij een temperatuur boven de 26 graden gaat de activiteit NIET door.
URL:https://leijhoeve.nl/event/alpaca-meet-and-feed-3/
LOCATION:Kinderboerderij de Leijhoeve\, Burg. N. de Jaegerplein 1\, Rijsbergen\, NB\, 4891NL\, Nederland
END:VEVENT
BEGIN:VEVENT
DTSTART;TZID=UTC:20230815T110000
DTEND;TZID=UTC:20230815T120000
DTSTAMP:20260422T045223
CREATED:20230412T112058Z
LAST-MODIFIED:20230412T112058Z
UID:3391-1692097200-1692100800@leijhoeve.nl
SUMMARY:Pony poetsen
DESCRIPTION:Kom jij de pony’s poetsen?\nDit kan van 11:00 tot 12:00 bij de pony’s in de wei. \nLET OP: Bij een temperatuur boven de 26 graden gaat de activiteit NIET door.
URL:https://leijhoeve.nl/event/pony-poetsen-20/
LOCATION:Kinderboerderij de Leijhoeve\, Burg. N. de Jaegerplein 1\, Rijsbergen\, NB\, 4891NL\, Nederland
END:VEVENT
BEGIN:VEVENT
DTSTART;TZID=UTC:20230816T110000
DTEND;TZID=UTC:20230816T110000
DTSTAMP:20260422T045223
CREATED:20230209T094345Z
LAST-MODIFIED:20230728T064904Z
UID:3282-1692183600-1692183600@leijhoeve.nl
SUMMARY:Ezels knuffelen
DESCRIPTION:Kom gezellig langst in de wei!\nVandaag mogelijk tussen de volgende tijdsblokken:\n– 11:00 tot 12:00\n– 13:30 tot 14:30\nDit is een gratis activiteit
URL:https://leijhoeve.nl/event/ezels-knuffelen-19/
LOCATION:Kinderboerderij de Leijhoeve\, Burg. N. de Jaegerplein 1\, Rijsbergen\, NB\, 4891NL\, Nederland
END:VEVENT
BEGIN:VEVENT
DTSTART;TZID=UTC:20230822T110000
DTEND;TZID=UTC:20230822T120000
DTSTAMP:20260422T045223
CREATED:20230412T112219Z
LAST-MODIFIED:20230412T112219Z
UID:3395-1692702000-1692705600@leijhoeve.nl
SUMMARY:Pony poetsen
DESCRIPTION:Kom jij de pony’s poetsen?\nDit kan van 11:00 tot 12:00 bij de pony’s in de wei. \nLET OP: Bij een temperatuur boven de 26 graden gaat de activiteit NIET door.
URL:https://leijhoeve.nl/event/pony-poetsen-22/
LOCATION:Kinderboerderij de Leijhoeve\, Burg. N. de Jaegerplein 1\, Rijsbergen\, NB\, 4891NL\, Nederland
END:VEVENT
BEGIN:VEVENT
DTSTART;TZID=UTC:20230823T133000
DTEND;TZID=UTC:20230823T140000
DTSTAMP:20260422T045223
CREATED:20230412T080518Z
LAST-MODIFIED:20230728T065905Z
UID:3318-1692797400-1692799200@leijhoeve.nl
SUMMARY:Alpaca meet and feed
DESCRIPTION:Meet and feed met de alpaca’s ;\nVan 13.30 tot 14.00 \, maximaal 5 personen\nVan 14.00 tot 14.00 \, maximaal 5 personen\nKaartjes zijn te koop bij de brasserie voor €5\,- p.p.\nDit is inclusief voer\, ranja en een aandenken. \nGraag 2 werkdagen vooraf reserveren via telefoonnummer: 088 6117544 of via info@leijhoeve.nl\nLET OP: Bij een temperatuur boven de 26 graden gaat de activiteit NIET door.
URL:https://leijhoeve.nl/event/alpaca-meet-and-feed-4/
LOCATION:Kinderboerderij de Leijhoeve\, Burg. N. de Jaegerplein 1\, Rijsbergen\, NB\, 4891NL\, Nederland
END:VEVENT
BEGIN:VEVENT
DTSTART;TZID=UTC:20230829T110000
DTEND;TZID=UTC:20230829T120000
DTSTAMP:20260422T045223
CREATED:20230412T112136Z
LAST-MODIFIED:20230412T112136Z
UID:3393-1693306800-1693310400@leijhoeve.nl
SUMMARY:Pony poetsen
DESCRIPTION:Kom jij de pony’s poetsen?\nDit kan van 11:00 tot 12:00 bij de pony’s in de wei. \nLET OP: Bij een temperatuur boven de 26 graden gaat de activiteit NIET door.
URL:https://leijhoeve.nl/event/pony-poetsen-21/
LOCATION:Kinderboerderij de Leijhoeve\, Burg. N. de Jaegerplein 1\, Rijsbergen\, NB\, 4891NL\, Nederland
END:VEVENT
END:VCALENDAR