BEGIN:VCALENDAR
VERSION:2.0
PRODID:-//Kinderboerderij de Leijhoeve - ECPv6.15.20//NONSGML v1.0//EN
CALSCALE:GREGORIAN
METHOD:PUBLISH
X-WR-CALNAME:Kinderboerderij de Leijhoeve
X-ORIGINAL-URL:https://leijhoeve.nl
X-WR-CALDESC:Evenementen voor Kinderboerderij de Leijhoeve
REFRESH-INTERVAL;VALUE=DURATION:PT1H
X-Robots-Tag:noindex
X-PUBLISHED-TTL:PT1H
BEGIN:VTIMEZONE
TZID:UTC
BEGIN:STANDARD
TZOFFSETFROM:+0000
TZOFFSETTO:+0000
TZNAME:UTC
DTSTART:20230101T000000
END:STANDARD
END:VTIMEZONE
BEGIN:VEVENT
DTSTART;TZID=UTC:20240102T110000
DTEND;TZID=UTC:20240102T120000
DTSTAMP:20260421T205754
CREATED:20240123T125504Z
LAST-MODIFIED:20240123T130413Z
UID:3477-1704193200-1704196800@leijhoeve.nl
SUMMARY:Pony poetsen
DESCRIPTION:Kom jij de pony’s poetsen? \nDit kan van 11:00 tot 12:00 bij de pony’s in de wei. \nLET OP: Bij een temperatuur boven de 26 graden gaat de activiteit NIET door.
URL:https://leijhoeve.nl/event/pony-borstelen/
LOCATION:Kinderboerderij de Leijhoeve\, Burg. N. de Jaegerplein 1\, Rijsbergen\, NB\, 4891NL\, Nederland
END:VEVENT
BEGIN:VEVENT
DTSTART;TZID=UTC:20240109T110000
DTEND;TZID=UTC:20240109T120000
DTSTAMP:20260421T205754
CREATED:20240123T125650Z
LAST-MODIFIED:20240123T130347Z
UID:3479-1704798000-1704801600@leijhoeve.nl
SUMMARY:Pony poetsen
DESCRIPTION:Kom jij de pony’s poetsen? \nDit kan van 11:00 tot 12:00 bij de pony’s in de wei. \nLET OP: Bij een temperatuur boven de 26 graden gaat de activiteit NIET door.
URL:https://leijhoeve.nl/event/ponys-borstelen/
LOCATION:Kinderboerderij de Leijhoeve\, Burg. N. de Jaegerplein 1\, Rijsbergen\, NB\, 4891NL\, Nederland
END:VEVENT
BEGIN:VEVENT
DTSTART;TZID=UTC:20240116T110000
DTEND;TZID=UTC:20240116T120000
DTSTAMP:20260421T205754
CREATED:20240123T125835Z
LAST-MODIFIED:20240123T130321Z
UID:3481-1705402800-1705406400@leijhoeve.nl
SUMMARY:Pony poetsen
DESCRIPTION:Kom jij de pony’s poetsen? \nDit kan van 11:00 tot 12:00 bij de pony’s in de wei. \nLET OP: Bij een temperatuur boven de 26 graden gaat de activiteit NIET door.
URL:https://leijhoeve.nl/event/ponys-borstelen-2/
LOCATION:Kinderboerderij de Leijhoeve\, Burg. N. de Jaegerplein 1\, Rijsbergen\, NB\, 4891NL\, Nederland
END:VEVENT
BEGIN:VEVENT
DTSTART;TZID=UTC:20240123T110000
DTEND;TZID=UTC:20240123T120000
DTSTAMP:20260421T205754
CREATED:20240123T130251Z
LAST-MODIFIED:20240123T130251Z
UID:3486-1706007600-1706011200@leijhoeve.nl
SUMMARY:Pony poetsen
DESCRIPTION:Kom jij de pony’s poetsen? \nDit kan van 11:00 tot 12:00 bij de pony’s in de wei. \nLET OP: Bij een temperatuur boven de 26 graden gaat de activiteit NIET door.
URL:https://leijhoeve.nl/event/pony-poetsen-27/
LOCATION:Kinderboerderij de Leijhoeve\, Burg. N. de Jaegerplein 1\, Rijsbergen\, NB\, 4891NL\, Nederland
END:VEVENT
BEGIN:VEVENT
DTSTART;TZID=UTC:20240130T110000
DTEND;TZID=UTC:20240130T120000
DTSTAMP:20260421T205754
CREATED:20240123T130539Z
LAST-MODIFIED:20240123T130539Z
UID:3491-1706612400-1706616000@leijhoeve.nl
SUMMARY:Pony poetsen
DESCRIPTION:Kom jij de pony’s poetsen? \nDit kan van 11:00 tot 12:00 bij de pony’s in de wei. \nLET OP: Bij een temperatuur boven de 26 graden gaat de activiteit NIET door.
URL:https://leijhoeve.nl/event/pony-poetsen-28/
LOCATION:Kinderboerderij de Leijhoeve\, Burg. N. de Jaegerplein 1\, Rijsbergen\, NB\, 4891NL\, Nederland
END:VEVENT
END:VCALENDAR