BEGIN:VCALENDAR
VERSION:2.0
PRODID:-//Kinderboerderij de Leijhoeve - ECPv6.15.20//NONSGML v1.0//EN
CALSCALE:GREGORIAN
METHOD:PUBLISH
X-WR-CALNAME:Kinderboerderij de Leijhoeve
X-ORIGINAL-URL:https://leijhoeve.nl
X-WR-CALDESC:Evenementen voor Kinderboerderij de Leijhoeve
REFRESH-INTERVAL;VALUE=DURATION:PT1H
X-Robots-Tag:noindex
X-PUBLISHED-TTL:PT1H
BEGIN:VTIMEZONE
TZID:UTC
BEGIN:STANDARD
TZOFFSETFROM:+0000
TZOFFSETTO:+0000
TZNAME:UTC
DTSTART:20230101T000000
END:STANDARD
END:VTIMEZONE
BEGIN:VEVENT
DTSTART;TZID=UTC:20240206T110000
DTEND;TZID=UTC:20240206T120000
DTSTAMP:20260421T191846
CREATED:20240123T130714Z
LAST-MODIFIED:20240123T130714Z
UID:3493-1707217200-1707220800@leijhoeve.nl
SUMMARY:Pony poetsen
DESCRIPTION:Kom jij de pony’s poetsen? \nDit kan van 11:00 tot 12:00 bij de pony’s in de wei. \nLET OP: Bij een temperatuur boven de 26 graden gaat de activiteit NIET door.
URL:https://leijhoeve.nl/event/pony-poetsen-29/
LOCATION:Kinderboerderij de Leijhoeve\, Burg. N. de Jaegerplein 1\, Rijsbergen\, NB\, 4891NL\, Nederland
END:VEVENT
BEGIN:VEVENT
DTSTART;TZID=UTC:20240213T110000
DTEND;TZID=UTC:20240213T120000
DTSTAMP:20260421T191846
CREATED:20240123T130825Z
LAST-MODIFIED:20240123T130825Z
UID:3495-1707822000-1707825600@leijhoeve.nl
SUMMARY:Pony poetsen
DESCRIPTION:Kom jij de pony’s poetsen? \nDit kan van 11:00 tot 12:00 bij de pony’s in de wei. \nLET OP: Bij een temperatuur boven de 26 graden gaat de activiteit NIET door.
URL:https://leijhoeve.nl/event/pony-poetsen-30/
LOCATION:Kinderboerderij de Leijhoeve\, Burg. N. de Jaegerplein 1\, Rijsbergen\, NB\, 4891NL\, Nederland
END:VEVENT
BEGIN:VEVENT
DTSTART;TZID=UTC:20240220T110000
DTEND;TZID=UTC:20240220T120000
DTSTAMP:20260421T191846
CREATED:20240123T130940Z
LAST-MODIFIED:20240123T131023Z
UID:3497-1708426800-1708430400@leijhoeve.nl
SUMMARY:Pony poetsen
DESCRIPTION:Kom jij de pony’s poetsen? \nDit kan van 11:00 tot 12:00 bij de pony’s in de wei. \nLET OP: Bij een temperatuur boven de 26 graden gaat de activiteit NIET door.
URL:https://leijhoeve.nl/event/pony-poetsen-31/
LOCATION:Kinderboerderij de Leijhoeve\, Burg. N. de Jaegerplein 1\, Rijsbergen\, NB\, 4891NL\, Nederland
END:VEVENT
BEGIN:VEVENT
DTSTART;TZID=UTC:20240227T110000
DTEND;TZID=UTC:20240227T120000
DTSTAMP:20260421T191846
CREATED:20240123T131217Z
LAST-MODIFIED:20240123T131217Z
UID:3499-1709031600-1709035200@leijhoeve.nl
SUMMARY:Pony poetsen
DESCRIPTION:Kom jij de pony’s poetsen? \nDit kan van 11:00 tot 12:00 bij de pony’s in de wei. \nLET OP: Bij een temperatuur boven de 26 graden gaat de activiteit NIET door.
URL:https://leijhoeve.nl/event/pony-poetsen-32/
LOCATION:Kinderboerderij de Leijhoeve\, Burg. N. de Jaegerplein 1\, Rijsbergen\, NB\, 4891NL\, Nederland
END:VEVENT
END:VCALENDAR