BEGIN:VCALENDAR
VERSION:2.0
PRODID:-//Kinderboerderij de Leijhoeve - ECPv6.15.20//NONSGML v1.0//EN
CALSCALE:GREGORIAN
METHOD:PUBLISH
X-ORIGINAL-URL:https://leijhoeve.nl
X-WR-CALDESC:Evenementen voor Kinderboerderij de Leijhoeve
REFRESH-INTERVAL;VALUE=DURATION:PT1H
X-Robots-Tag:noindex
X-PUBLISHED-TTL:PT1H
BEGIN:VTIMEZONE
TZID:UTC
BEGIN:STANDARD
TZOFFSETFROM:+0000
TZOFFSETTO:+0000
TZNAME:UTC
DTSTART:20230101T000000
END:STANDARD
END:VTIMEZONE
BEGIN:VEVENT
DTSTART;TZID=UTC:20240305T110000
DTEND;TZID=UTC:20240305T120000
DTSTAMP:20260421T173421
CREATED:20240123T131413Z
LAST-MODIFIED:20240123T131419Z
UID:3501-1709636400-1709640000@leijhoeve.nl
SUMMARY:Pony poetsen
DESCRIPTION:Kom jij de pony’s poetsen? \nDit kan van 11:00 tot 12:00 bij de pony’s in de wei. \nLET OP: Bij een temperatuur boven de 26 graden gaat de activiteit NIET door.
URL:https://leijhoeve.nl/event/pony-poetsen-33/
LOCATION:Kinderboerderij de Leijhoeve\, Burg. N. de Jaegerplein 1\, Rijsbergen\, NB\, 4891NL\, Nederland
END:VEVENT
BEGIN:VEVENT
DTSTART;TZID=UTC:20240306T110000
DTEND;TZID=UTC:20240306T143000
DTSTAMP:20260421T173421
CREATED:20240123T124028Z
LAST-MODIFIED:20240123T124807Z
UID:3468-1709722800-1709735400@leijhoeve.nl
SUMMARY:Ezels knuffelen
DESCRIPTION:Kom jij de ezels borstelen? \nVandaag mogelijk tussen de volgende tijdsblokken: \n–  11:00 tot 12:00 \n–  13:30 tot 14:30 \nDit is een gratis activiteit. \n 
URL:https://leijhoeve.nl/event/ezels-knuffelen/
LOCATION:Kinderboerderij de Leijhoeve\, Burg. N. de Jaegerplein 1\, Rijsbergen\, NB\, 4891NL\, Nederland
END:VEVENT
BEGIN:VEVENT
DTSTART;TZID=UTC:20240308T100000
DTEND;TZID=UTC:20240308T153000
DTSTAMP:20260421T173421
CREATED:20240322T092652Z
LAST-MODIFIED:20240322T092652Z
UID:3537-1709892000-1709911800@leijhoeve.nl
SUMMARY:Nationale Pannenkoeken dag
DESCRIPTION:Vandaag is het nationale pannenkoeken dag! Kom jij ook een pannenkoek eten?\nJe mag hem zelf versieren! Vers gebakken door onze eigen koks!\nVrije inloop tussen 10.00-15.30
URL:https://leijhoeve.nl/event/nationale-pannenkoeken-dag/
LOCATION:Kinderboerderij de Leijhoeve\, Burg. N. de Jaegerplein 1\, Rijsbergen\, NB\, 4891NL\, Nederland
END:VEVENT
BEGIN:VEVENT
DTSTART;TZID=UTC:20240312T110000
DTEND;TZID=UTC:20240312T120000
DTSTAMP:20260421T173421
CREATED:20240123T131621Z
LAST-MODIFIED:20240123T131621Z
UID:3504-1710241200-1710244800@leijhoeve.nl
SUMMARY:Pony poetsen
DESCRIPTION:Kom jij de pony’s poetsen? \nDit kan van 11:00 tot 12:00 bij de pony’s in de wei. \nLET OP: Bij een temperatuur boven de 26 graden gaat de activiteit NIET door.
URL:https://leijhoeve.nl/event/pony-poetsen-34/
LOCATION:Kinderboerderij de Leijhoeve\, Burg. N. de Jaegerplein 1\, Rijsbergen\, NB\, 4891NL\, Nederland
END:VEVENT
BEGIN:VEVENT
DTSTART;TZID=UTC:20240313T110000
DTEND;TZID=UTC:20240313T143000
DTSTAMP:20260421T173421
CREATED:20240322T141147Z
LAST-MODIFIED:20240322T141147Z
UID:3613-1710327600-1710340200@leijhoeve.nl
SUMMARY:Ezels knuffelen
DESCRIPTION:Kom jij de ezels borstelen? \nVandaag mogelijk tussen de volgende tijdsblokken: \n–  11:00 tot 12:00 \n–  13:30 tot 14:30 \nDit is een gratis activiteit.
URL:https://leijhoeve.nl/event/ezels-knuffelen-10/
LOCATION:Kinderboerderij de Leijhoeve\, Burg. N. de Jaegerplein 1\, Rijsbergen\, NB\, 4891NL\, Nederland
END:VEVENT
BEGIN:VEVENT
DTSTART;TZID=UTC:20240319T110000
DTEND;TZID=UTC:20240319T120000
DTSTAMP:20260421T173421
CREATED:20240123T131750Z
LAST-MODIFIED:20240123T131750Z
UID:3506-1710846000-1710849600@leijhoeve.nl
SUMMARY:Pony poetsen
DESCRIPTION:Kom jij de pony’s poetsen? \nDit kan van 11:00 tot 12:00 bij de pony’s in de wei. \nLET OP: Bij een temperatuur boven de 26 graden gaat de activiteit NIET door.
URL:https://leijhoeve.nl/event/pony-poetsen-35/
LOCATION:Kinderboerderij de Leijhoeve\, Burg. N. de Jaegerplein 1\, Rijsbergen\, NB\, 4891NL\, Nederland
END:VEVENT
BEGIN:VEVENT
DTSTART;TZID=UTC:20240320T110000
DTEND;TZID=UTC:20240320T143000
DTSTAMP:20260421T173421
CREATED:20240123T124358Z
LAST-MODIFIED:20240123T124845Z
UID:3471-1710932400-1710945000@leijhoeve.nl
SUMMARY:Ezels knuffelen
DESCRIPTION:Kom jij de ezels borstelen? \nVandaag mogelijk tussen de volgende tijdsblokken: \n– 11:00 tot 12:00 \n– 13:30 tot 14:30 \nDit is een gratis activiteit.
URL:https://leijhoeve.nl/event/ezels-knuffelen-2/
LOCATION:Kinderboerderij de Leijhoeve\, Burg. N. de Jaegerplein 1\, Rijsbergen\, NB\, 4891NL\, Nederland
END:VEVENT
BEGIN:VEVENT
DTSTART;TZID=UTC:20240326T110000
DTEND;TZID=UTC:20240326T120000
DTSTAMP:20260421T173421
CREATED:20240322T113026Z
LAST-MODIFIED:20240322T113026Z
UID:3566-1711450800-1711454400@leijhoeve.nl
SUMMARY:Pony poetsen
DESCRIPTION:Kom jij de pony’s poetsen? \nDit kan van 11:00 tot 12:00 bij de pony’s in de wei. \nLET OP: Bij een temperatuur boven de 26 graden gaat de activiteit NIET door.
URL:https://leijhoeve.nl/event/pony-poetsen-36/
LOCATION:Kinderboerderij de Leijhoeve\, Burg. N. de Jaegerplein 1\, Rijsbergen\, NB\, 4891NL\, Nederland
END:VEVENT
BEGIN:VEVENT
DTSTART;TZID=UTC:20240327T133000
DTEND;TZID=UTC:20240327T153000
DTSTAMP:20260421T173421
CREATED:20240123T122226Z
LAST-MODIFIED:20240322T075520Z
UID:3454-1711546200-1711553400@leijhoeve.nl
SUMMARY:Pasen op de kinderboerderij
DESCRIPTION:Kom jij vandaag ook paaseieren zoeken? Misschien komt de paashaas nog wel even langst!\nBij slecht weer is deze activiteit binnen\, omdat de brasserie nog gesloten is. Is er een koffie to go standje ingericht bij de brasserie voor koffie/thee/ranja. \nDit is een gratis activiteit die te volgen is vanaf 13:30 tot 15:30
URL:https://leijhoeve.nl/event/pasen-op-de-kinderboerderij-2/
LOCATION:Kinderboerderij de Leijhoeve\, Burg. N. de Jaegerplein 1\, Rijsbergen\, NB\, 4891NL\, Nederland
END:VEVENT
END:VCALENDAR